BEGIN:VCALENDAR
VERSION:2.0
PRODID:-//wp-events-plugin.com//7.2.3.1//EN
BEGIN:VEVENT
UID:1@smartacademy.edu.pa
DTSTART;VALUE=DATE:20221027
DTEND;VALUE=DATE:20221028
DTSTAMP:20221123T013353Z
URL:https://smartacademy.edu.pa/evento/celebracion-del-dia-del-estudiante/
SUMMARY:Celebración del Día del Estudiante
DESCRIPTION:Actividades Especiales con clases regualres\nPor: Líderes de 
 Área
ATTACH;FMTTYPE=image/jpeg:https://smartacademy.edu.pa/wp-content/uploads/2
 022/10/bg-box-1-1.jpg
CATEGORIES:Eventos
END:VEVENT
END:VCALENDAR